BEGIN:VCALENDAR
VERSION:2.0
PRODID:-//MassHire Berkshire Career Center - ECPv6.15.18//NONSGML v1.0//EN
CALSCALE:GREGORIAN
METHOD:PUBLISH
X-WR-CALNAME:MassHire Berkshire Career Center
X-ORIGINAL-URL:https://www.masshireberkshirecc.com
X-WR-CALDESC:Events for MassHire Berkshire Career Center
REFRESH-INTERVAL;VALUE=DURATION:PT1H
X-Robots-Tag:noindex
X-PUBLISHED-TTL:PT1H
BEGIN:VTIMEZONE
TZID:America/New_York
BEGIN:DAYLIGHT
TZOFFSETFROM:-0500
TZOFFSETTO:-0400
TZNAME:EDT
DTSTART:20250309T070000
END:DAYLIGHT
BEGIN:STANDARD
TZOFFSETFROM:-0400
TZOFFSETTO:-0500
TZNAME:EST
DTSTART:20251102T060000
END:STANDARD
BEGIN:DAYLIGHT
TZOFFSETFROM:-0500
TZOFFSETTO:-0400
TZNAME:EDT
DTSTART:20260308T070000
END:DAYLIGHT
BEGIN:STANDARD
TZOFFSETFROM:-0400
TZOFFSETTO:-0500
TZNAME:EST
DTSTART:20261101T060000
END:STANDARD
BEGIN:DAYLIGHT
TZOFFSETFROM:-0500
TZOFFSETTO:-0400
TZNAME:EDT
DTSTART:20270314T070000
END:DAYLIGHT
BEGIN:STANDARD
TZOFFSETFROM:-0400
TZOFFSETTO:-0500
TZNAME:EST
DTSTART:20271107T060000
END:STANDARD
END:VTIMEZONE
BEGIN:VEVENT
DTSTART;TZID=America/New_York:20260422T100000
DTEND;TZID=America/New_York:20260422T110000
DTSTAMP:20260422T023640
CREATED:20260225T232547Z
LAST-MODIFIED:20260225T232547Z
UID:10010955-1776852000-1776855600@www.masshireberkshirecc.com
SUMMARY:Resume Lab (in-person live)
DESCRIPTION:Resume Lab \nJoin our in-person resume lab and create the perfect marketing tool to use in your job search…YOUR RESUME \nParticipants are asked to bring the following with them: \n\nYour current contact information\nWork history including job titles\, employer name and dates of employment.\n\nAll attendees are provided a resume worksheet and access to a computer. You will leave the lab with a basic resume in hand! \nThis lab is designed for individuals seeking a basic resume only.  \nInterested in learning additional tips and tricks to customize your resume?\nJoin our Creating your Resume Workshop Thursdays at 10:00am. \nNot a Career Center Member? No problem! Click HERE to create your FREE membership on MassHire JobQuest. \nWe look forward to working with you!
URL:https://www.masshireberkshirecc.com/event/resume-lab-in-person-live-44/
LOCATION:MassHire Berkshire Career Center\, 160 North Street\, 3rd Floor\, Pittsfield\, MA\, 01201\, United States
CATEGORIES:Workshops
END:VEVENT
BEGIN:VEVENT
DTSTART;TZID=America/New_York:20260422T100000
DTEND;TZID=America/New_York:20260422T120000
DTSTAMP:20260422T023640
CREATED:20260305T161711Z
LAST-MODIFIED:20260422T004244Z
UID:10011153-1776852000-1776859200@www.masshireberkshirecc.com
SUMMARY:Young Adult (14-25) Job Fair
DESCRIPTION:April 22\, 2026 l 10am-12pm\nBerkshire Innovation Center\n45 Woodlawn Ave\, Pittsfield. \nLooking for your first job\, summer gig\, or your next opportunity?  \nMassHire Berkshire Career Center’s Young Adult Job Fair is the perfect place to start! Young Adults ages 14-25 can meet with local employers\, explore different career paths\, and learn about opportunities available in Berkshire County. \nBring your resume\, bring a friend\, and come ready to make connections that could lead to your next paycheck! \nCURRENTLY REGISTERED EMPLOYERS & RESOURCES:  \n\nAdams Community Bank\nBerkshire Community College (Resource)\nBerkshire Family YMCA\nBig Y Foods\nBigg Daddy’s Philly Steak House\nBousquet Sport\nBoys & Girls Club of the Berkshires\nCanyon Ranch\nCoco’s Candy\nConnors Bros Moving & Storage\nDottie’s Coffee Lounge\nExcel Nursing Services\nHillcrest Educational Centers\nIntegritus Healthcare\nInterprint\nJain Americas\nMassachusetts College of Liberal Arts (Employer & Resource)\nMassHire Berkshire Career Center – YouthWorks\nMassHire Berkshire Workforce Board – Job4Youth\nNorthern Berkshire Community Television\nSecond Chance Composting\nUS ARMY\nZio Roberto\n\nPre-Registration strongly encouraged.\nWalk-ins are also welcome!\nNeed help preparing?\nCheck out our workshops: \n\nCreating Your Resume will guide you in creating the perfect marketing tool to use in your job search… Your résumé.\nInterviewing More Effectively provides tips on presenting a positive first impression\, knowing what to expect at an interview\, and being prepared for each stage of the interview. Plan answers for potential interview questions and develop self confidence in the process.\nThe Resume Lab workshop will help you structure a basic resume on the spot!\nJob Club expands your network of contacts and serves as a support group throughout your job search process.\nYouth Employment Strategies (YES) learn the fundamental steps that will lead to successful employment.\n\nNot a Career Center member?\nNo Problem! Simply CLICK HERE to create an account on MassHire JobQuest and then register for this event.\nPlease contact the Business Services Team with questions at: BusinessTeam@MassHireBerkshirecc.com
URL:https://www.masshireberkshirecc.com/event/young-adult-job-fair/
LOCATION:Berkshire Innovation Center\, 45 Woodlawn Ave\, Pittsfield\, 01201\, United States
CATEGORIES:Job Fairs
END:VEVENT
BEGIN:VEVENT
DTSTART;TZID=America/New_York:20260422T130000
DTEND;TZID=America/New_York:20260422T140000
DTSTAMP:20260422T023640
CREATED:20260225T231950Z
LAST-MODIFIED:20260225T232005Z
UID:10010944-1776862800-1776866400@www.masshireberkshirecc.com
SUMMARY:On-Site Career Center Seminar
DESCRIPTION:CAREER CENTER SEMINAR  \nWelcome to MassHire Berkshire Career Center! \nIn today’s rapidly evolving job market\, we understand the challenges that job seekers face when it comes to finding the right opportunities and building a successful career. This seminar aims to provide you with a comprehensive overview of the services and resources that MassHire Berkshire Career Center offers to support job seekers in their journey toward meaningful employment and workforce empowerment. \nPre-registration is required. \nNot a Career Center Member? No problem! Click HERE to create your FREE membership on MassHire JobQuest. \nWe look forward to working with you!
URL:https://www.masshireberkshirecc.com/event/on-site-career-center-seminar-122/
LOCATION:MassHire Berkshire Career Center\, 160 North Street\, 3rd Floor\, Pittsfield\, MA\, 01201\, United States
CATEGORIES:Career Center Seminars
END:VEVENT
BEGIN:VEVENT
DTSTART;TZID=America/New_York:20260422T130000
DTEND;TZID=America/New_York:20260422T153000
DTSTAMP:20260422T023640
CREATED:20260225T234122Z
LAST-MODIFIED:20260225T234122Z
UID:10011012-1776862800-1776871800@www.masshireberkshirecc.com
SUMMARY:Youth Employment Strategies (YES)
DESCRIPTION:Youth Employment Strategies\nWorkshop for ages 14-25 \nYouth Employment Strategies (YES) is designed to set a foundation for success for youth job seekers. \nYES provides job search and application assistance\, resume and interview prep\, self-exploration and goal setting\, and access to resources within the community. \nYES also helps young job seekers learn about current job trends\, in-demand industries\, career pathways and more! \nYES is hosted by MassHire Berkshire Career Center Youth Employment Specialists and is held in-person at MassHire Berkshire Career Center\, Wednesdays & Thursdays from 1:00pm-3:30pm. \nQuestions? Please contact Kelly Groves-Skrocki\, Supervisor of Youth Programs at: kskrocki@masshireberkshirecc.com
URL:https://www.masshireberkshirecc.com/event/youth-employment-strategies-yes-21/2026-04-22/
LOCATION:MassHire Berkshire Career Center\, 160 North Street\, 3rd Floor\, Pittsfield\, MA\, 01201\, United States
CATEGORIES:Workshops
END:VEVENT
END:VCALENDAR